BEGIN:VCALENDAR
PRODID:-//AT Content Types//AT Event//EN
VERSION:1.0
BEGIN:VEVENT
DTSTART:20110112T080000Z
DTEND:20110112T093000Z
DCREATED:20101209T094812Z
UID:ATEvent-7d359eeadb4b23f1500e046e2d433667
SEQUENCE:0
LAST-MODIFIED:20101209T094843Z
SUMMARY:ESP-MM EXAM
LOCATION:Lecture Room H
PRIORITY:3
TRANSP:0
END:VEVENT
END:VCALENDAR
