BEGIN:VCALENDAR
PRODID:-//AT Content Types//AT Event//EN
VERSION:2.0
METHOD:PUBLISH
BEGIN:VEVENT
DTSTAMP:20260420T185732Z
CREATED:20100923T091757Z
UID:ATEvent-03a9d04c4863e492d69db46f669afb3a
LAST-MODIFIED:20100923T091858Z
SUMMARY:ESP-MM
DTSTART:20101202T100000Z
DTEND:20101202T113000Z
LOCATION:Lecture Room H
CONTACT:J. Niemela
URL:https://diploma-clear.ictp.it/courses/weekly-schedule/lecture-room-h/esp-mm-4
CLASS:PUBLIC
END:VEVENT
END:VCALENDAR
