BEGIN:VCALENDAR
PRODID:-//AT Content Types//AT Event//EN
VERSION:1.0
BEGIN:VEVENT
DTSTART:20141028T080000Z
DTEND:20141028T093000Z
DCREATED:20140924T124750Z
UID:ATEvent-caa7e128371645d0af04bd8359703f4e
SEQUENCE:0
LAST-MODIFIED:20140924T124818Z
SUMMARY:ESP-MM
LOCATION:Lecture Room H
PRIORITY:3
TRANSP:0
END:VEVENT
END:VCALENDAR
