BEGIN:VCALENDAR
PRODID:-//AT Content Types//AT Event//EN
VERSION:1.0
BEGIN:VEVENT
DTSTART:20111213T150000Z
DTEND:20111213T163000Z
DCREATED:20110907T140033Z
UID:ATEvent-eaddde28bcf6882663b165c63ddc8fdb
SEQUENCE:0
LAST-MODIFIED:20111201T155612Z
SUMMARY:ESP-MM
LOCATION:Lecture Room H
PRIORITY:3
TRANSP:0
END:VEVENT
END:VCALENDAR
