BEGIN:VCALENDAR
PRODID:-//AT Content Types//AT Event//EN
VERSION:2.0
METHOD:PUBLISH
BEGIN:VEVENT
DTSTAMP:20260422T025030Z
CREATED:20101025T095514Z
UID:ATEvent-00d227e16258eca2c8d5af04028a3dbe
LAST-MODIFIED:20101025T095812Z
SUMMARY:ESP-MM
DTSTART:20101207T100000Z
DTEND:20101207T113000Z
LOCATION:Lecture Room H
CONTACT:J. Niemela
URL:https://diploma-clear.ictp.it/courses/weekly-schedule/lecture-room-h/esp-mm-1
CLASS:PUBLIC
END:VEVENT
END:VCALENDAR
