BEGIN:VCALENDAR
PRODID:-//AT Content Types//AT Event//EN
VERSION:2.0
METHOD:PUBLISH
BEGIN:VEVENT
DTSTAMP:20260423T225439Z
CREATED:20110119T102841Z
UID:ATEvent-ad2b2184f0aa5073fea80ec24c063569
LAST-MODIFIED:20110119T102915Z
SUMMARY:ESP-MEV
DTSTART:20110419T140000Z
DTEND:20110419T153000Z
LOCATION:Lecture Room H
CONTACT:A. Aoudia
URL:https://diploma-clear.ictp.it/courses/weekly-schedule/lecture-room-h/esp-mev-6
CLASS:PUBLIC
END:VEVENT
END:VCALENDAR
