BEGIN:VCALENDAR
PRODID:-//AT Content Types//AT Event//EN
VERSION:1.0
BEGIN:VEVENT
DTSTART:20110414T140000Z
DTEND:20110414T153000Z
DCREATED:20110119T102149Z
UID:ATEvent-c1f10899b8cdc4b14c7dcece6a224a2d
SEQUENCE:0
LAST-MODIFIED:20110119T102226Z
SUMMARY:ESP-MEV
LOCATION:Lecture Room H
PRIORITY:3
TRANSP:0
END:VEVENT
END:VCALENDAR
