BEGIN:VCALENDAR
PRODID:-//AT Content Types//AT Event//EN
VERSION:1.0
BEGIN:VEVENT
DTSTART:20110412T140000Z
DTEND:20110412T153000Z
DCREATED:20110119T101328Z
UID:ATEvent-c2c70f50ea996de3704bc096d1df38aa
SEQUENCE:0
LAST-MODIFIED:20110119T101455Z
SUMMARY:ESP-MEV
LOCATION:Lecture Room H
PRIORITY:3
TRANSP:0
END:VEVENT
END:VCALENDAR
