BEGIN:VCALENDAR
PRODID:-//AT Content Types//AT Event//EN
VERSION:1.0
BEGIN:VEVENT
DTSTART:20110606T120000Z
DTEND:20110606T133000Z
DCREATED:20110426T091555Z
UID:ATEvent-caa5b4b04124d65c276432e7c90909de
SEQUENCE:0
LAST-MODIFIED:20110512T134250Z
SUMMARY:ESP-EDA
LOCATION:Lecture Room H
PRIORITY:3
TRANSP:0
END:VEVENT
END:VCALENDAR
