BEGIN:VCALENDAR
PRODID:-//AT Content Types//AT Event//EN
VERSION:1.0
BEGIN:VEVENT
DTSTART:20180215T100000Z
DTEND:20180215T113000Z
DCREATED:20180206T092947Z
UID:ATEvent-f0da8383b0a2429e8fc9e0cdc423a37b
SEQUENCE:0
LAST-MODIFIED:20180214T140144Z
SUMMARY:ESP-MET tut.
LOCATION:Lecture Room H
PRIORITY:3
TRANSP:0
END:VEVENT
END:VCALENDAR
