BEGIN:VCALENDAR
PRODID:-//AT Content Types//AT Event//EN
VERSION:2.0
METHOD:PUBLISH
BEGIN:VEVENT
DTSTAMP:20260423T174523Z
CREATED:20140404T091542Z
UID:ATEvent-03a5d532e274449b9d784b1aae31a1ae
LAST-MODIFIED:20140404T092313Z
SUMMARY:ESP-MET tut. 3
DTSTART:20140408T120000Z
DTEND:20140408T133000Z
LOCATION:Lecture Room H
CONTACT:A. Aoudia
URL:https://diploma-clear.ictp.it/courses/weekly-schedule/lecture-room-h/esp-met-tut-3
CLASS:PUBLIC
END:VEVENT
END:VCALENDAR
