BEGIN:VCALENDAR
PRODID:-//AT Content Types//AT Event//EN
VERSION:1.0
BEGIN:VEVENT
DTSTART:20140403T120000Z
DTEND:20140403T133000Z
DCREATED:20140404T092055Z
UID:ATEvent-28b405d0c08c4d199a854f4e87ad64c1
SEQUENCE:0
LAST-MODIFIED:20140404T092129Z
SUMMARY:ESP-MET tut. 2
LOCATION:Lecture Room H
PRIORITY:3
TRANSP:0
END:VEVENT
END:VCALENDAR
