BEGIN:VCALENDAR
PRODID:-//AT Content Types//AT Event//EN
VERSION:1.0
BEGIN:VEVENT
DTSTART:20190211T100000Z
DTEND:20190211T113000Z
DCREATED:20181123T134602Z
UID:ATEvent-1764843857c34239848a78fd33c3bc6f
SEQUENCE:0
LAST-MODIFIED:20190121T135820Z
SUMMARY:ESP-MET tut.
LOCATION:Lecture Room H
PRIORITY:3
TRANSP:0
END:VEVENT
END:VCALENDAR
