BEGIN:VCALENDAR
PRODID:-//AT Content Types//AT Event//EN
VERSION:2.0
METHOD:PUBLISH
BEGIN:VEVENT
DTSTAMP:20260422T055550Z
CREATED:20140307T080456Z
UID:ATEvent-0518152a69404a92b8fcca4653387b43
LAST-MODIFIED:20140320T112026Z
SUMMARY:ESP-MET
DTSTART:20140325T150000Z
DTEND:20140325T163000Z
LOCATION:Lecture Room H
CONTACT:A. Aoudia
URL:https://diploma-clear.ictp.it/courses/weekly-schedule/lecture-room-h/esp-met-57
CLASS:PUBLIC
END:VEVENT
END:VCALENDAR
