BEGIN:VCALENDAR
PRODID:-//AT Content Types//AT Event//EN
VERSION:2.0
METHOD:PUBLISH
BEGIN:VEVENT
DTSTAMP:20260422T195626Z
CREATED:20140213T140048Z
UID:ATEvent-763924c302fa411aa1923d084cd7c23c
LAST-MODIFIED:20140213T140108Z
SUMMARY:ESP-MET
DTSTART:20140317T150000Z
DTEND:20140317T163000Z
LOCATION:Lecture Room H
CONTACT:A. Aoudia
URL:https://diploma-clear.ictp.it/courses/weekly-schedule/lecture-room-h/esp-met-54
CLASS:PUBLIC
END:VEVENT
END:VCALENDAR
