BEGIN:VCALENDAR
PRODID:-//AT Content Types//AT Event//EN
VERSION:2.0
METHOD:PUBLISH
BEGIN:VEVENT
DTSTAMP:20260422T195458Z
CREATED:20130320T144212Z
UID:ATEvent-ec531185feea0f36e4c8722655aef86a
LAST-MODIFIED:20130320T144449Z
SUMMARY:ESP-MET
DTSTART:20130402T070000Z
DTEND:20130402T083000Z
LOCATION:Lecture Room H
CONTACT:A. Aoudia
URL:https://diploma-clear.ictp.it/courses/weekly-schedule/lecture-room-h/esp-met-50
CLASS:PUBLIC
END:VEVENT
END:VCALENDAR
