BEGIN:VCALENDAR
PRODID:-//AT Content Types//AT Event//EN
VERSION:2.0
METHOD:PUBLISH
BEGIN:VEVENT
DTSTAMP:20260423T035158Z
CREATED:20090116T134525Z
UID:ATEvent-677adb6e9f8b42c571c3bd9eb588c43a
LAST-MODIFIED:20090116T134612Z
SUMMARY:ESP-MET
DTSTART:20090417T140000Z
DTEND:20090417T153000Z
LOCATION:Lecture Room H
CONTACT:Abdelkrim Aoudia
URL:https://diploma-clear.ictp.it/courses/weekly-schedule/lecture-room-h/esp-met-4
CLASS:PUBLIC
END:VEVENT
END:VCALENDAR
