BEGIN:VCALENDAR
PRODID:-//AT Content Types//AT Event//EN
VERSION:1.0
BEGIN:VEVENT
DTSTART:20120326T140000Z
DTEND:20120326T153000Z
DCREATED:20111219T173933Z
UID:ATEvent-fb4dd4ca6492015144ea26954efbe8ce
SEQUENCE:0
LAST-MODIFIED:20120523T131139Z
SUMMARY:ESP-MET
LOCATION:Lecture Room H
PRIORITY:3
TRANSP:0
END:VEVENT
END:VCALENDAR
