BEGIN:VCALENDAR
PRODID:-//AT Content Types//AT Event//EN
VERSION:1.0
BEGIN:VEVENT
DTSTART:20090504T140000Z
DTEND:20090504T153000Z
DCREATED:20090116T140047Z
UID:ATEvent-1fee60723268b09d1b1e12b09f328dfe
SEQUENCE:0
LAST-MODIFIED:20090207T100311Z
SUMMARY:ESP-EP
LOCATION:Lecture Room H
PRIORITY:3
TRANSP:0
END:VEVENT
END:VCALENDAR
