BEGIN:VCALENDAR
PRODID:-//AT Content Types//AT Event//EN
VERSION:2.0
METHOD:PUBLISH
BEGIN:VEVENT
DTSTAMP:20260423T184304Z
CREATED:20100917T133433Z
UID:ATEvent-2bc78453b5f4918a0a0194f3cc82b04b
LAST-MODIFIED:20101201T084553Z
SUMMARY:ESP-IPES Rdgs. 4
DTSTART:20101027T070000Z
DTEND:20101027T083000Z
LOCATION:Lecture Room H
CONTACT:C. Piani
URL:https://diploma-clear.ictp.it/courses/weekly-schedule/lecture-room-h/esp-ipes-64
CLASS:PUBLIC
END:VEVENT
END:VCALENDAR
