BEGIN:VCALENDAR
PRODID:-//AT Content Types//AT Event//EN
VERSION:2.0
METHOD:PUBLISH
BEGIN:VEVENT
DTSTAMP:20260420T030326Z
CREATED:20100916T130044Z
UID:ATEvent-dcd0582f4caa59c9ca786c4bd432585b
LAST-MODIFIED:20101109T101557Z
SUMMARY:ESP-IPES
DTSTART:20101015T070000Z
DTEND:20101015T083000Z
LOCATION:Lecture Room H
CONTACT:R. Farneti
URL:https://diploma-clear.ictp.it/courses/weekly-schedule/lecture-room-h/esp-ipes-59
CLASS:PUBLIC
END:VEVENT
END:VCALENDAR
