BEGIN:VCALENDAR
PRODID:-//AT Content Types//AT Event//EN
VERSION:1.0
BEGIN:VEVENT
DTSTART:20101011T070000Z
DTEND:20101011T083000Z
DCREATED:20100916T125306Z
UID:ATEvent-ac80c518197f40d8ac9fe50dfbe8945a
SEQUENCE:0
LAST-MODIFIED:20100916T125330Z
SUMMARY:ESP-IPES
LOCATION:Lecture Room H
PRIORITY:3
TRANSP:0
END:VEVENT
END:VCALENDAR
