BEGIN:VCALENDAR
PRODID:-//AT Content Types//AT Event//EN
VERSION:1.0
BEGIN:VEVENT
DTSTART:20101008T070000Z
DTEND:20101008T083000Z
DCREATED:20100902T135547Z
UID:ATEvent-e2e1f3658b4e7bfad47b40c06b6de5a5
SEQUENCE:0
LAST-MODIFIED:20100902T135608Z
SUMMARY:ESP-IPES
LOCATION:Lecture Room H
PRIORITY:3
TRANSP:0
END:VEVENT
END:VCALENDAR
