BEGIN:VCALENDAR
PRODID:-//AT Content Types//AT Event//EN
VERSION:2.0
METHOD:PUBLISH
BEGIN:VEVENT
DTSTAMP:20260423T071734Z
CREATED:20100827T153556Z
UID:ATEvent-8c826a6653842942429952cabc26e311
LAST-MODIFIED:20100827T153619Z
SUMMARY:ESP-IPES
DTSTART:20100917T090000Z
DTEND:20100917T103000Z
LOCATION:Lecture Room H
CONTACT:G. Panza
URL:https://diploma-clear.ictp.it/courses/weekly-schedule/lecture-room-h/esp-ipes-48
CLASS:PUBLIC
END:VEVENT
END:VCALENDAR
