BEGIN:VCALENDAR
PRODID:-//AT Content Types//AT Event//EN
VERSION:2.0
METHOD:PUBLISH
BEGIN:VEVENT
DTSTAMP:20260421T104235Z
CREATED:20100827T153211Z
UID:ATEvent-c3d0febcf539a909d44965cd615ceeb3
LAST-MODIFIED:20100827T153300Z
SUMMARY:ESP-IPES
DTSTART:20100915T070000Z
DTEND:20100915T083000Z
LOCATION:Lecture Room H
CONTACT:G. Panza
URL:https://diploma-clear.ictp.it/courses/weekly-schedule/lecture-room-h/esp-ipes-45
CLASS:PUBLIC
END:VEVENT
END:VCALENDAR
