BEGIN:VCALENDAR
PRODID:-//AT Content Types//AT Event//EN
VERSION:1.0
BEGIN:VEVENT
DTSTART:20091020T070000Z
DTEND:20091020T083000Z
DCREATED:20090915T091123Z
UID:ATEvent-96c60ef6b6b69b6f0188dc3a708041af
SEQUENCE:0
LAST-MODIFIED:20090915T091148Z
SUMMARY:ESP-IPES
LOCATION:Lecture Room H
PRIORITY:3
TRANSP:0
END:VEVENT
END:VCALENDAR
