BEGIN:VCALENDAR
PRODID:-//AT Content Types//AT Event//EN
VERSION:1.0
BEGIN:VEVENT
DTSTART:20090918T070000Z
DTEND:20090918T083000Z
DCREATED:20090909T142615Z
UID:ATEvent-9209b8d2a68c08b70ff94c05e3c5e150
SEQUENCE:0
LAST-MODIFIED:20090909T142641Z
SUMMARY:ESP-IPES
LOCATION:Lecture Room H
PRIORITY:3
TRANSP:0
END:VEVENT
END:VCALENDAR
