BEGIN:VCALENDAR
PRODID:-//AT Content Types//AT Event//EN
VERSION:1.0
BEGIN:VEVENT
DTSTART:20081021T070000Z
DTEND:20081021T083000Z
DCREATED:20081015T124853Z
UID:ATEvent-437252155033b0152b0f5d077f8e5d10
SEQUENCE:0
LAST-MODIFIED:20081015T124924Z
SUMMARY:ESP-IPES
LOCATION:Lecture Room H
PRIORITY:3
TRANSP:0
END:VEVENT
END:VCALENDAR
