BEGIN:VCALENDAR
PRODID:-//AT Content Types//AT Event//EN
VERSION:1.0
BEGIN:VEVENT
DTSTART:20081015T070000Z
DTEND:20081015T083000Z
DCREATED:20081010T145236Z
UID:ATEvent-548de0e1390be2b7a7a3c2da2a4f8da9
SEQUENCE:0
LAST-MODIFIED:20081013T091112Z
SUMMARY:ESP-IPES
LOCATION:Lecture Room H
PRIORITY:3
TRANSP:0
END:VEVENT
END:VCALENDAR
