BEGIN:VCALENDAR
PRODID:-//AT Content Types//AT Event//EN
VERSION:2.0
METHOD:PUBLISH
BEGIN:VEVENT
DTSTAMP:20260420T222638Z
CREATED:20140109T103543Z
UID:ATEvent-127b455d0bfc4b389c911dde82af8bea
LAST-MODIFIED:20140109T103605Z
SUMMARY:ESP-HYD
DTSTART:20140407T070000Z
DTEND:20140407T083000Z
LOCATION:Lecture Room H
CONTACT:E. Coppola
URL:https://diploma-clear.ictp.it/courses/weekly-schedule/lecture-room-h/esp-hyd-8
CLASS:PUBLIC
END:VEVENT
END:VCALENDAR
