BEGIN:VCALENDAR
PRODID:-//AT Content Types//AT Event//EN
VERSION:1.0
BEGIN:VEVENT
DTSTART:20130523T070000Z
DTEND:20130523T083000Z
DCREATED:20130321T130658Z
UID:ATEvent-e48e1085ae5968f3cac3f1f687334249
SEQUENCE:0
LAST-MODIFIED:20130321T130745Z
SUMMARY:ESP-HYD
LOCATION:Lecture Room H
PRIORITY:3
TRANSP:0
END:VEVENT
END:VCALENDAR
