BEGIN:VCALENDAR
PRODID:-//AT Content Types//AT Event//EN
VERSION:1.0
BEGIN:VEVENT
DTSTART:20140425T090000Z
DTEND:20140425T103000Z
DCREATED:20140408T140948Z
UID:ATEvent-dc000481d5424e5fa27f798ffd3c5d5e
SEQUENCE:0
LAST-MODIFIED:20140423T115311Z
SUMMARY:ESP-GS tut. 2
LOCATION:Lecture Room H
PRIORITY:3
TRANSP:0
END:VEVENT
END:VCALENDAR
