BEGIN:VCALENDAR
PRODID:-//AT Content Types//AT Event//EN
VERSION:2.0
METHOD:PUBLISH
BEGIN:VEVENT
DTSTAMP:20260420T141633Z
CREATED:20140408T140842Z
UID:ATEvent-edc464bb82cb4c2fab34e99361948cd1
LAST-MODIFIED:20140408T140942Z
SUMMARY:ESP-GS tut. 1
DTSTART:20140423T140000Z
DTEND:20140423T153000Z
LOCATION:Lecture Room H
CONTACT:A. Borghi
URL:https://diploma-clear.ictp.it/courses/weekly-schedule/lecture-room-h/esp-gs-tut-1
CLASS:PUBLIC
END:VEVENT
END:VCALENDAR
