BEGIN:VCALENDAR
PRODID:-//AT Content Types//AT Event//EN
VERSION:1.0
BEGIN:VEVENT
DTSTART:20140422T120000Z
DTEND:20140422T133000Z
DCREATED:20140110T131734Z
UID:ATEvent-7b89de104ea64095ae946109f01d0b2b
SEQUENCE:0
LAST-MODIFIED:20140404T132840Z
SUMMARY:ESP-GS
LOCATION:Lecture Room H
PRIORITY:3
TRANSP:0
END:VEVENT
END:VCALENDAR
