BEGIN:VCALENDAR
PRODID:-//AT Content Types//AT Event//EN
VERSION:1.0
BEGIN:VEVENT
DTSTART:20211125T080000Z
DTEND:20211125T093000Z
DCREATED:20210805T103256Z
UID:ATEvent-cdfce50efdab4749bed02f1cba3151ef
SEQUENCE:0
LAST-MODIFIED:20211118T111309Z
SUMMARY:ESP-GFD
LOCATION:Lecture Room H
PRIORITY:3
TRANSP:0
END:VEVENT
END:VCALENDAR
