BEGIN:VCALENDAR
PRODID:-//AT Content Types//AT Event//EN
VERSION:1.0
BEGIN:VEVENT
DTSTART:20131028T080000Z
DTEND:20131028T113000Z
DCREATED:20131010T135336Z
UID:ATEvent-fede0fab5ac14e328dac312e9c1b3d36
SEQUENCE:0
LAST-MODIFIED:20131010T135439Z
SUMMARY:ESP-GEO Rdgs. 2-3
LOCATION:Lecture Room H
PRIORITY:3
TRANSP:0
END:VEVENT
END:VCALENDAR
