BEGIN:VCALENDAR
PRODID:-//AT Content Types//AT Event//EN
VERSION:2.0
METHOD:PUBLISH
BEGIN:VEVENT
DTSTAMP:20260420T141058Z
CREATED:20181205T131523Z
UID:ATEvent-c842d9ccc85242f48c4c0864a7d20b10
LAST-MODIFIED:20181205T131546Z
SUMMARY:ESP-FD
DTSTART:20181221T080000Z
DTEND:20181221T093000Z
LOCATION:Lecture Room H
URL:https://diploma-clear.ictp.it/courses/weekly-schedule/lecture-room-h/esp-fd-7
CLASS:PUBLIC
END:VEVENT
END:VCALENDAR
