BEGIN:VCALENDAR
PRODID:-//AT Content Types//AT Event//EN
VERSION:2.0
METHOD:PUBLISH
BEGIN:VEVENT
DTSTAMP:20260420T075512Z
CREATED:20171025T141114Z
UID:ATEvent-8d3b9b1b2ac04402a20afbea551ef9c4
LAST-MODIFIED:20171025T141138Z
SUMMARY:ESP-FD
DTSTART:20171221T080000Z
DTEND:20171221T093000Z
LOCATION:Lecture Room H
URL:https://diploma-clear.ictp.it/courses/weekly-schedule/lecture-room-h/esp-fd-4
CLASS:PUBLIC
END:VEVENT
END:VCALENDAR
