BEGIN:VCALENDAR
PRODID:-//AT Content Types//AT Event//EN
VERSION:2.0
METHOD:PUBLISH
BEGIN:VEVENT
DTSTAMP:20260420T061912Z
CREATED:20130927T141341Z
UID:ATEvent-09c82d8d5c8d43dfa0c97fab755be434
LAST-MODIFIED:20130927T142026Z
SUMMARY:ESP-EST
DTSTART:20131029T130000Z
DTEND:20131029T143000Z
LOCATION:Lecture Room H
CONTACT:F. Solmon
URL:https://diploma-clear.ictp.it/courses/weekly-schedule/lecture-room-h/esp-est-8
CLASS:PUBLIC
END:VEVENT
END:VCALENDAR
