BEGIN:VCALENDAR
PRODID:-//AT Content Types//AT Event//EN
VERSION:2.0
METHOD:PUBLISH
BEGIN:VEVENT
DTSTAMP:20260424T210651Z
CREATED:20140826T141110Z
UID:ATEvent-b262f4fda5164c11973f423bcf037f6f
LAST-MODIFIED:20140826T141512Z
SUMMARY:ESP-EST
DTSTART:20141106T130000Z
DTEND:20141106T143000Z
LOCATION:Lecture Room H
CONTACT:F. Solmon
URL:https://diploma-clear.ictp.it/courses/weekly-schedule/lecture-room-h/esp-est-17
CLASS:PUBLIC
END:VEVENT
END:VCALENDAR
