BEGIN:VCALENDAR
PRODID:-//AT Content Types//AT Event//EN
VERSION:1.0
BEGIN:VEVENT
DTSTART:20160329T090000Z
DTEND:20160329T103000Z
DCREATED:20151214T144439Z
UID:ATEvent-6c4f0da85a9a4a7cbfc680b1a2bd8828
SEQUENCE:0
LAST-MODIFIED:20151214T144518Z
SUMMARY:ESP-ESM
LOCATION:Lecture Room H
PRIORITY:3
TRANSP:0
END:VEVENT
END:VCALENDAR
