BEGIN:VCALENDAR
PRODID:-//AT Content Types//AT Event//EN
VERSION:1.0
BEGIN:VEVENT
DTSTART:20160315T100000Z
DTEND:20160315T113000Z
DCREATED:20151214T143658Z
UID:ATEvent-3385f66124f64f45b760f075b66abc4c
SEQUENCE:0
LAST-MODIFIED:20160309T142952Z
SUMMARY:ESP-ESM
LOCATION:Lecture Room H
PRIORITY:3
TRANSP:0
END:VEVENT
END:VCALENDAR
