BEGIN:VCALENDAR
PRODID:-//AT Content Types//AT Event//EN
VERSION:2.0
METHOD:PUBLISH
BEGIN:VEVENT
DTSTAMP:20260423T021043Z
CREATED:20141126T092259Z
UID:ATEvent-0a40318ef0f949a392c875ad9c99ce94
LAST-MODIFIED:20141126T093350Z
SUMMARY:ESP-ESD II
DTSTART:20150302T100000Z
DTEND:20150302T113000Z
LOCATION:Lecture Room H
CONTACT:F. Kucharski
URL:https://diploma-clear.ictp.it/courses/weekly-schedule/lecture-room-h/esp-esd-ii
CLASS:PUBLIC
END:VEVENT
END:VCALENDAR
