BEGIN:VCALENDAR
PRODID:-//AT Content Types//AT Event//EN
VERSION:1.0
BEGIN:VEVENT
DTSTART:20090505T140000Z
DTEND:20090505T153000Z
DCREATED:20090207T100329Z
UID:ATEvent-767ff843b4d49eabec634b578a407081
SEQUENCE:0
LAST-MODIFIED:20090207T100429Z
SUMMARY:ESP-EP
LOCATION:Lecture Room H
PRIORITY:3
TRANSP:0
END:VEVENT
END:VCALENDAR
