BEGIN:VCALENDAR
PRODID:-//AT Content Types//AT Event//EN
VERSION:1.0
BEGIN:VEVENT
DTSTART:20110505T070000Z
DTEND:20110505T083000Z
DCREATED:20110215T143620Z
UID:ATEvent-f711ac58adeb2af68cf3780156fd71fe
SEQUENCE:0
LAST-MODIFIED:20110215T143645Z
SUMMARY:ESP-EP
LOCATION:Lecture Room H
PRIORITY:3
TRANSP:0
END:VEVENT
END:VCALENDAR
