BEGIN:VCALENDAR
PRODID:-//AT Content Types//AT Event//EN
VERSION:2.0
METHOD:PUBLISH
BEGIN:VEVENT
DTSTAMP:20260422T024807Z
CREATED:20090207T100537Z
UID:ATEvent-c4861bdadbfc88c37b4cc0da0b2f4754
LAST-MODIFIED:20090207T100613Z
SUMMARY:ESP-EP
DTSTART:20090507T120000Z
DTEND:20090507T133000Z
LOCATION:Lecture Room H
CONTACT:Vladimir G. Kossobokov
URL:https://diploma-clear.ictp.it/courses/weekly-schedule/lecture-room-h/esp-ep-1
CLASS:PUBLIC
END:VEVENT
END:VCALENDAR
