BEGIN:VCALENDAR
PRODID:-//AT Content Types//AT Event//EN
VERSION:2.0
METHOD:PUBLISH
BEGIN:VEVENT
DTSTAMP:20260421T134010Z
CREATED:20090207T093138Z
UID:ATEvent-6f044c68025da7e1a2618e34674d0edf
LAST-MODIFIED:20090207T093210Z
SUMMARY:ESP-EHZ tut. (1)
DTSTART:20090409T140000Z
DTEND:20090409T153000Z
LOCATION:Lecture Room H
CONTACT:Franco Vaccari
URL:https://diploma-clear.ictp.it/courses/weekly-schedule/lecture-room-h/esp-ehz-tut-1
CLASS:PUBLIC
END:VEVENT
END:VCALENDAR
