BEGIN:VCALENDAR
PRODID:-//AT Content Types//AT Event//EN
VERSION:1.0
BEGIN:VEVENT
DTSTART:20081128T100000Z
DTEND:20081128T113000Z
DCREATED:20081110T095825Z
UID:ATEvent-ebe4b15a966a2778c1a3732f52f8ab20
SEQUENCE:0
LAST-MODIFIED:20081110T095909Z
SUMMARY:ESP-EDA Rdgs.
LOCATION:Lecture Room H
PRIORITY:3
TRANSP:0
END:VEVENT
END:VCALENDAR
