BEGIN:VCALENDAR
PRODID:-//AT Content Types//AT Event//EN
VERSION:1.0
BEGIN:VEVENT
DTSTART:20081128T080000Z
DTEND:20081128T093000Z
DCREATED:20081110T095720Z
UID:ATEvent-8c8051e26bdb31fac57738e2f59d16ef
SEQUENCE:0
LAST-MODIFIED:20081110T095809Z
SUMMARY:ESP-EDA Rdgs.
LOCATION:Lecture Room H
PRIORITY:3
TRANSP:0
END:VEVENT
END:VCALENDAR
