BEGIN:VCALENDAR
PRODID:-//AT Content Types//AT Event//EN
VERSION:1.0
BEGIN:VEVENT
DTSTART:20090406T090000Z
DTEND:20090406T103000Z
DCREATED:20090116T113005Z
UID:ATEvent-d0c3b353a9c285bb72452be4c178db32
SEQUENCE:0
LAST-MODIFIED:20090116T113208Z
SUMMARY:ESP-EDA II
LOCATION:Lecture Room H
PRIORITY:3
TRANSP:0
END:VEVENT
END:VCALENDAR
